BEGIN:VCALENDAR
VERSION:2.0
PRODID:-//Association Ami - ECPv6.9.0//NONSGML v1.0//EN
CALSCALE:GREGORIAN
METHOD:PUBLISH
X-ORIGINAL-URL:https://asso-ami.fr
X-WR-CALDESC:Évènements pour Association Ami
REFRESH-INTERVAL;VALUE=DURATION:PT1H
X-Robots-Tag:noindex
X-PUBLISHED-TTL:PT1H
BEGIN:VTIMEZONE
TZID:Europe/Paris
BEGIN:DAYLIGHT
TZOFFSETFROM:+0100
TZOFFSETTO:+0200
TZNAME:CEST
DTSTART:20230326T010000
END:DAYLIGHT
BEGIN:STANDARD
TZOFFSETFROM:+0200
TZOFFSETTO:+0100
TZNAME:CET
DTSTART:20231029T010000
END:STANDARD
END:VTIMEZONE
BEGIN:VEVENT
DTSTART;TZID=Europe/Paris:20230517T140000
DTEND;TZID=Europe/Paris:20230517T180000
DTSTAMP:20260422T104325
CREATED:20230426T154106Z
LAST-MODIFIED:20230427T080830Z
UID:24809-1684332000-1684346400@asso-ami.fr
SUMMARY:Balance ton poing
DESCRIPTION:“La vie c’est comme la boxe : avance\, encaisse\, esquive et progresse” \nBoxe en famille en présence de Hadja SANGARE\, coach sportive\, pour vous apporter les bases. Un tournoi des familles sera organisé en fin de séance. \nLa famille gagnante remportera un sac de frappe ! \nInscription avant le 16 mai auprès de Laura GROSJEAN.
URL:https://asso-ami.fr/evenement/balance-ton-poing/
LOCATION:Avrin’Style\, 30 place d'Avrinsart\, Épinal\, 88000\, France
CATEGORIES:Animations
ATTACH;FMTTYPE=image/jpeg:https://asso-ami.fr/wp-content/uploads/2023/04/balance_ton_poing-1-scaled.jpg
END:VEVENT
BEGIN:VEVENT
DTSTART;VALUE=DATE:20230524
DTEND;VALUE=DATE:20230525
DTSTAMP:20260422T104325
CREATED:20230524T150516Z
LAST-MODIFIED:20230524T150516Z
UID:25578-1684886400-1684972799@asso-ami.fr
SUMMARY:Fini d'être dans le rouge
DESCRIPTION:Nouvelle édition de l’action de sensibilisation sur les menstruations “fini d’être dans le rouge”. \nAu programme : \n\nun moment d’échange sur le sujet en compagnie d’une professionnelle\nune distribution de kits avec protections périodiques lavables fabriquées par l’atelier couture AMI\nun atelier de création de produits d’hygiène
URL:https://asso-ami.fr/evenement/fini-detre-dans-le-rouge/
LOCATION:Point accueil-écoute Adali\, 10 rue François de Neufchâteau\, Épinal\, 88000\, France
CATEGORIES:Animations
ATTACH;FMTTYPE=image/jpeg:https://asso-ami.fr/wp-content/uploads/2023/05/6-scaled.jpg
END:VEVENT
BEGIN:VEVENT
DTSTART;TZID=Europe/Paris:20230524T140000
DTEND;TZID=Europe/Paris:20230524T160000
DTSTAMP:20260422T104325
CREATED:20230523T144909Z
LAST-MODIFIED:20230623T122621Z
UID:25468-1684936800-1684944000@asso-ami.fr
SUMMARY:Atelier arnaque en ligne
DESCRIPTION:Activité réservée aux salariés CDDI\, au programme : \n\nsavoir reconnaître une arnaque en ligne\nidentifier les différents types d’arnaque en ligne\nquelles méthodes pour s’en prémunir ?
URL:https://asso-ami.fr/evenement/atelier-arnaque-en-ligne/
LOCATION:Salle de réunion | bâtiment technique\, 16 Quartier de la Magdeleine\, Épinal\, 88000\, France
CATEGORIES:Animations
ATTACH;FMTTYPE=image/jpeg:https://asso-ami.fr/wp-content/uploads/2023/05/arnaque_en_ligne-scaled.jpg
END:VEVENT
END:VCALENDAR