BEGIN:VCALENDAR
VERSION:2.0
PRODID:-//Association Ami - ECPv6.9.0//NONSGML v1.0//EN
CALSCALE:GREGORIAN
METHOD:PUBLISH
X-ORIGINAL-URL:https://asso-ami.fr
X-WR-CALDESC:Évènements pour Association Ami
REFRESH-INTERVAL;VALUE=DURATION:PT1H
X-Robots-Tag:noindex
X-PUBLISHED-TTL:PT1H
BEGIN:VTIMEZONE
TZID:Europe/Paris
BEGIN:DAYLIGHT
TZOFFSETFROM:+0100
TZOFFSETTO:+0200
TZNAME:CEST
DTSTART:20230326T010000
END:DAYLIGHT
BEGIN:STANDARD
TZOFFSETFROM:+0200
TZOFFSETTO:+0100
TZNAME:CET
DTSTART:20231029T010000
END:STANDARD
END:VTIMEZONE
BEGIN:VEVENT
DTSTART;VALUE=DATE:20230602
DTEND;VALUE=DATE:20230603
DTSTAMP:20260422T104642
CREATED:20230628T093126Z
LAST-MODIFIED:20230628T093126Z
UID:26390-1685664000-1685750399@asso-ami.fr
SUMMARY:Visites des activités pour les partenaires
DESCRIPTION:Quatrième édition de la visite des activités AMI pour les partenaires prescripteurs \nStructures représentées : CTPS\, CAE\, CD (MSVS\, PMI\, PAB)\, le Renouveau\, Synergie Insertion\, Pôle Emploi\, CAP Emploi\, service 2SA de l’AVSEA\, Mission Locale\, MJC Savouret\, FMS CRDI\, CCAS Epinal\, PMI
URL:https://asso-ami.fr/evenement/visites-des-activites-pour-les-partenaires/
LOCATION:Brocante AMI\, 16 Quartier de la Magdeleine\, Épinal\, 88000\, France
CATEGORIES:Animations
ATTACH;FMTTYPE=image/jpeg:https://asso-ami.fr/wp-content/uploads/2023/06/visite_partenaires-scaled.jpg
END:VEVENT
END:VCALENDAR