BEGIN:VCALENDAR
VERSION:2.0
PRODID:-//Association Ami - ECPv6.9.0//NONSGML v1.0//EN
CALSCALE:GREGORIAN
METHOD:PUBLISH
X-ORIGINAL-URL:https://asso-ami.fr
X-WR-CALDESC:Évènements pour Association Ami
REFRESH-INTERVAL;VALUE=DURATION:PT1H
X-Robots-Tag:noindex
X-PUBLISHED-TTL:PT1H
BEGIN:VTIMEZONE
TZID:Europe/Paris
BEGIN:DAYLIGHT
TZOFFSETFROM:+0100
TZOFFSETTO:+0200
TZNAME:CEST
DTSTART:20230326T010000
END:DAYLIGHT
BEGIN:STANDARD
TZOFFSETFROM:+0200
TZOFFSETTO:+0100
TZNAME:CET
DTSTART:20231029T010000
END:STANDARD
END:VTIMEZONE
BEGIN:VEVENT
DTSTART;TZID=Europe/Paris:20230609T090000
DTEND;TZID=Europe/Paris:20230609T163000
DTSTAMP:20260422T111803
CREATED:20230622T151632Z
LAST-MODIFIED:20230623T122427Z
UID:26216-1686301200-1686328200@asso-ami.fr
SUMMARY:Rallye des talents
DESCRIPTION:Découverte des métiers du territoire en direction de tous les vosgiens le 9 juin de 9h à 16h30 dans le Parc de la Rotonde à Thaon les Vosges.  \nLes objectifs de cette journée sont la promotion des métiers en tension par des jeunes vers des jeunes\, la valorisation de jeunes ayant réussi ainsi qu’une aide à l’orientation à travers des démonstrations de leur métier ou de leur passion avec le support des structures. \nLes pôles représentés seront le transport\, le bâtiment\, le bois\, l’agriculture et les espaces verts\, les services à la personne et du sanitaire et social\, l’industrie\, l’armée\, le sport\, l’art\, la vidéo\, la création d’entreprise\, la citoyenneté.
URL:https://asso-ami.fr/evenement/rallye-des-talents/
LOCATION:Parc de la Rotonde\, Thaon-les-Vosges\, 88150\, France
CATEGORIES:Animations
ATTACH;FMTTYPE=application/pdf:https://asso-ami.fr/wp-content/uploads/2023/06/Affiche-ML-Epinal.pdf
END:VEVENT
END:VCALENDAR