BEGIN:VCALENDAR
VERSION:2.0
PRODID:-//Association Ami - ECPv6.9.0//NONSGML v1.0//EN
CALSCALE:GREGORIAN
METHOD:PUBLISH
X-WR-CALNAME:Association Ami
X-ORIGINAL-URL:https://asso-ami.fr
X-WR-CALDESC:Évènements pour Association Ami
REFRESH-INTERVAL;VALUE=DURATION:PT1H
X-Robots-Tag:noindex
X-PUBLISHED-TTL:PT1H
BEGIN:VTIMEZONE
TZID:Europe/Paris
BEGIN:DAYLIGHT
TZOFFSETFROM:+0100
TZOFFSETTO:+0200
TZNAME:CEST
DTSTART:20230326T010000
END:DAYLIGHT
BEGIN:STANDARD
TZOFFSETFROM:+0200
TZOFFSETTO:+0100
TZNAME:CET
DTSTART:20231029T010000
END:STANDARD
END:VTIMEZONE
BEGIN:VEVENT
DTSTART;TZID=Europe/Paris:20230616T130000
DTEND;TZID=Europe/Paris:20230616T183000
DTSTAMP:20260422T104509
CREATED:20230623T125345Z
LAST-MODIFIED:20230623T125752Z
UID:26279-1686920400-1686940200@asso-ami.fr
SUMMARY:Journée IAE Vosges
DESCRIPTION:Vous êtes une entreprise\, un partenaire\, une personne en recherche d’emploi… Cet événement est l’occasion de rencontrer directement les structures d’insertion par l’activité économique (SIAE). \nCette action a pour objectif de présenter les activités développées par les SIAE mais aussi de valoriser les salariés collaborateurs potentiels en recherche d’emploi. \nAu cours de cet événement\, des tables rondes et des ateliers (relooking solidaire\, simulation d’entretien d’embauche\, détection de potentiel\, estime de soi et présentation des applications Pôle emploi) seront proposés ainsi qu’une pièce de théâtre sur la thématique du recrutement et du management.
URL:https://asso-ami.fr/evenement/journee-iae-vosges/
LOCATION:Centre des congrès\, 7 Av. de Saint-Dié\, Épinal\, 88000\, France
CATEGORIES:Animations
ATTACH;FMTTYPE=image/png:https://asso-ami.fr/wp-content/uploads/2023/06/flyer_journee_iae_vosges.png
END:VEVENT
END:VCALENDAR