BEGIN:VCALENDAR
VERSION:2.0
PRODID:-//Association Ami - ECPv6.9.0//NONSGML v1.0//EN
CALSCALE:GREGORIAN
METHOD:PUBLISH
X-ORIGINAL-URL:https://asso-ami.fr
X-WR-CALDESC:Évènements pour Association Ami
REFRESH-INTERVAL;VALUE=DURATION:PT1H
X-Robots-Tag:noindex
X-PUBLISHED-TTL:PT1H
BEGIN:VTIMEZONE
TZID:Europe/Paris
BEGIN:DAYLIGHT
TZOFFSETFROM:+0100
TZOFFSETTO:+0200
TZNAME:CEST
DTSTART:20230326T010000
END:DAYLIGHT
BEGIN:STANDARD
TZOFFSETFROM:+0200
TZOFFSETTO:+0100
TZNAME:CET
DTSTART:20231029T010000
END:STANDARD
END:VTIMEZONE
BEGIN:VEVENT
DTSTART;TZID=Europe/Paris:20230620T140000
DTEND;TZID=Europe/Paris:20230620T160000
DTSTAMP:20260422T104734
CREATED:20230622T154619Z
LAST-MODIFIED:20230622T154619Z
UID:25590-1687269600-1687276800@asso-ami.fr
SUMMARY:Animation Vosgelis
DESCRIPTION:Programme de l’animation : \n\nFabrication de produits ménagers\nTemps d’échange entre les différents salariés et les animateurs\nIntervention sur les thèmes hygiène et techniques d’entretien
URL:https://asso-ami.fr/evenement/animation-vosgelis/
LOCATION:Appartement pédagogique\, 1 Rue de la Convivialité\, Golbey\, 88190
CATEGORIES:Animations
ATTACH;FMTTYPE=application/pdf:https://asso-ami.fr/wp-content/uploads/2023/06/flyer_vosgelis.pdf
END:VEVENT
END:VCALENDAR