BEGIN:VCALENDAR
VERSION:2.0
PRODID:-//Association Ami - ECPv6.9.0//NONSGML v1.0//EN
CALSCALE:GREGORIAN
METHOD:PUBLISH
X-WR-CALNAME:Association Ami
X-ORIGINAL-URL:https://asso-ami.fr
X-WR-CALDESC:Évènements pour Association Ami
REFRESH-INTERVAL;VALUE=DURATION:PT1H
X-Robots-Tag:noindex
X-PUBLISHED-TTL:PT1H
BEGIN:VTIMEZONE
TZID:Europe/Paris
BEGIN:DAYLIGHT
TZOFFSETFROM:+0100
TZOFFSETTO:+0200
TZNAME:CEST
DTSTART:20230326T010000
END:DAYLIGHT
BEGIN:STANDARD
TZOFFSETFROM:+0200
TZOFFSETTO:+0100
TZNAME:CET
DTSTART:20231029T010000
END:STANDARD
END:VTIMEZONE
BEGIN:VEVENT
DTSTART;TZID=Europe/Paris:20230628T140000
DTEND;TZID=Europe/Paris:20230628T170000
DTSTAMP:20260422T091916
CREATED:20230627T084820Z
LAST-MODIFIED:20230627T084820Z
UID:26364-1687960800-1687971600@asso-ami.fr
SUMMARY:Forum "Engageons nous pour la santé"
DESCRIPTION:“Rien de mieux que de parler de son métier à d’autres pour créer l’envie d’y accéder que ce soit par la formation ou l’emploi” \nVenez découvrir les métiers du soin et de la santé au travers d’échanges avec des employeurs de ce secteur et les organismes de formation. Des ateliers de mise en situation pourront vous être proposés.
URL:https://asso-ami.fr/evenement/forum-engageons-nous-pour-la-sante/
LOCATION:Communauté d’agglomération d’Epinal\, 1 avenue Dutac\, Épinal\, 88000\, France
CATEGORIES:Animations
ATTACH;FMTTYPE=image/jpeg:https://asso-ami.fr/wp-content/uploads/2023/06/forum-scaled.jpg
END:VEVENT
BEGIN:VEVENT
DTSTART;TZID=Europe/Paris:20230628T140000
DTEND;TZID=Europe/Paris:20230628T180000
DTSTAMP:20260422T091916
CREATED:20230428T095642Z
LAST-MODIFIED:20230524T091031Z
UID:24880-1687960800-1687975200@asso-ami.fr
SUMMARY:Infla'food
DESCRIPTION:“Faire ses courses\, cuisiner sans se ruiner\, sans se priver et en famille!” \nCette animation est une bonne occasion pour cuisiner en famille et pour s’informer sur différents thèmes : \n\nInflation\, faire ses courses sans se ruiner\nCuisiner et s’équiper à moindre coût\nLes aides sociales disponibles\n\nInscription avant le 27 juin auprès de Laura GROSJEAN.
URL:https://asso-ami.fr/evenement/inflafood/
LOCATION:Avrin’Style\, 30 place d'Avrinsart\, Épinal\, 88000\, France
CATEGORIES:Animations
ATTACH;FMTTYPE=image/jpeg:https://asso-ami.fr/wp-content/uploads/2023/04/inflafood-scaled.jpg
END:VEVENT
END:VCALENDAR