BEGIN:VCALENDAR
VERSION:2.0
PRODID:-//Association Ami - ECPv6.9.0//NONSGML v1.0//EN
CALSCALE:GREGORIAN
METHOD:PUBLISH
X-ORIGINAL-URL:https://asso-ami.fr
X-WR-CALDESC:Évènements pour Association Ami
REFRESH-INTERVAL;VALUE=DURATION:PT1H
X-Robots-Tag:noindex
X-PUBLISHED-TTL:PT1H
BEGIN:VTIMEZONE
TZID:Europe/Paris
BEGIN:DAYLIGHT
TZOFFSETFROM:+0100
TZOFFSETTO:+0200
TZNAME:CEST
DTSTART:20230326T010000
END:DAYLIGHT
BEGIN:STANDARD
TZOFFSETFROM:+0200
TZOFFSETTO:+0100
TZNAME:CET
DTSTART:20231029T010000
END:STANDARD
END:VTIMEZONE
BEGIN:VEVENT
DTSTART;TZID=Europe/Paris:20230927T140000
DTEND;TZID=Europe/Paris:20230927T180000
DTSTAMP:20260422T063738
CREATED:20230428T123648Z
LAST-MODIFIED:20230524T091037Z
UID:24896-1695823200-1695837600@asso-ami.fr
SUMMARY:Créa'cosmetiques
DESCRIPTION:Créez en famille vos cosmétiques bio parmi lesquels : \n\nSolution rafraichissante\nBaume à lèvre\nSavon\nGommage\nDémaquillant\nParfum “Masculin fraicheur”\n\nVenez créer vos cosmétiques et repartez avec\, c’est simple et gratuit ! \nInscription avant le 26 septembre auprès de Laura GROSJEAN.
URL:https://asso-ami.fr/evenement/creacosmetiques/
LOCATION:Avrin’Style\, 30 place d'Avrinsart\, Épinal\, 88000\, France
CATEGORIES:Animations
ATTACH;FMTTYPE=image/jpeg:https://asso-ami.fr/wp-content/uploads/2023/04/crecosmetiques-scaled.jpg
END:VEVENT
END:VCALENDAR